BEGIN:VCALENDAR
VERSION:2.0
PRODID:-//Women in World Trade New England - ECPv6.15.18//NONSGML v1.0//EN
CALSCALE:GREGORIAN
METHOD:PUBLISH
X-WR-CALNAME:Women in World Trade New England
X-ORIGINAL-URL:https://wwtne.org
X-WR-CALDESC:Events for Women in World Trade New England
REFRESH-INTERVAL;VALUE=DURATION:PT1H
X-Robots-Tag:noindex
X-PUBLISHED-TTL:PT1H
BEGIN:VTIMEZONE
TZID:America/New_York
BEGIN:DAYLIGHT
TZOFFSETFROM:-0500
TZOFFSETTO:-0400
TZNAME:EDT
DTSTART:20190310T070000
END:DAYLIGHT
BEGIN:STANDARD
TZOFFSETFROM:-0400
TZOFFSETTO:-0500
TZNAME:EST
DTSTART:20191103T060000
END:STANDARD
BEGIN:DAYLIGHT
TZOFFSETFROM:-0500
TZOFFSETTO:-0400
TZNAME:EDT
DTSTART:20200308T070000
END:DAYLIGHT
BEGIN:STANDARD
TZOFFSETFROM:-0400
TZOFFSETTO:-0500
TZNAME:EST
DTSTART:20201101T060000
END:STANDARD
BEGIN:DAYLIGHT
TZOFFSETFROM:-0500
TZOFFSETTO:-0400
TZNAME:EDT
DTSTART:20210314T070000
END:DAYLIGHT
BEGIN:STANDARD
TZOFFSETFROM:-0400
TZOFFSETTO:-0500
TZNAME:EST
DTSTART:20211107T060000
END:STANDARD
BEGIN:DAYLIGHT
TZOFFSETFROM:-0500
TZOFFSETTO:-0400
TZNAME:EDT
DTSTART:20220313T070000
END:DAYLIGHT
BEGIN:STANDARD
TZOFFSETFROM:-0400
TZOFFSETTO:-0500
TZNAME:EST
DTSTART:20221106T060000
END:STANDARD
END:VTIMEZONE
BEGIN:VEVENT
DTSTART;TZID=America/New_York:20210921T120000
DTEND;TZID=America/New_York:20210921T140000
DTSTAMP:20260423T124507
CREATED:20220524T151033Z
LAST-MODIFIED:20220524T151111Z
UID:10000011-1632225600-1632232800@wwtne.org
SUMMARY:Global Innovation\, Entrepreneurship & Women CEOs
DESCRIPTION:Meet 4 trailblazing women CEOs from Spain\, Switzerland\, The Netherlands and US as we explore topics like ‘obtaining venture funding as a woman CEO’; Lessons learned from expanding your company internationally; combining the challenges of managing a start-up company with family life and much more…
URL:https://wwtne.org/event/global-innovation-entrepreneurship-women-ceos/
LOCATION:Virtual
CATEGORIES:Networking
ATTACH;FMTTYPE=image/webp:https://wwtne.org/wp-content/uploads/09292021.webp
END:VEVENT
BEGIN:VEVENT
DTSTART;TZID=America/New_York:20210903T120000
DTEND;TZID=America/New_York:20210903T140000
DTSTAMP:20260423T124507
CREATED:20220524T151453Z
LAST-MODIFIED:20220524T151453Z
UID:10000012-1630670400-1630677600@wwtne.org
SUMMARY:International Economic Development and Humanitarian Aid Work
DESCRIPTION:In this session\, we will begin to explore the work and the career options in the areas of international economic development and humanitarian aid. \nOur guests are from CARE\, which was founded in 1945\, when 22 American organizations came together to rush lifesaving CARE Packages to survivors of World War II. Today\, CARE works in over 100 countries\, reaching more than 90 million people through 1\,300 projects. CARE works around the globe to save lives\, defeat poverty and achieve social justice. Women are a vital part of CARE’s community-based efforts to improve basic education\, increase access to quality health care and expand economic opportunity for all.
URL:https://wwtne.org/event/international-economic-development-and-humanitarian-aid-work/
LOCATION:Virtual
CATEGORIES:Networking
ATTACH;FMTTYPE=image/webp:https://wwtne.org/wp-content/uploads/090321.webp
END:VEVENT
BEGIN:VEVENT
DTSTART;TZID=America/New_York:20210427T120000
DTEND;TZID=America/New_York:20210427T130000
DTSTAMP:20260423T124507
CREATED:20220524T151753Z
LAST-MODIFIED:20220524T151753Z
UID:10000013-1619524800-1619528400@wwtne.org
SUMMARY:How Trade Dynamics Affect the 2021 Global Economic Outlook
DESCRIPTION:Join us for a conversation with Executive Vice President and Global Chief Investment Officer for State Street Global Advisors\, Lori Heinel in dialogue with Christa Bleyleben\, Managing Partner\, MassGlobal Partners.
URL:https://wwtne.org/event/how-trade-dynamics-affect-the-2021-global-economic-outlook/
LOCATION:Virtual
CATEGORIES:Networking
ATTACH;FMTTYPE=image/webp:https://wwtne.org/wp-content/uploads/042721.webp
END:VEVENT
BEGIN:VEVENT
DTSTART;TZID=America/New_York:20201209T120000
DTEND;TZID=America/New_York:20201209T130000
DTSTAMP:20260423T124507
CREATED:20220524T152348Z
LAST-MODIFIED:20220524T152348Z
UID:10000014-1607515200-1607518800@wwtne.org
SUMMARY:Trade in Transition: How Election Outcomes May Shape U.S. Trade Relations with the World
DESCRIPTION:We are thrilled to have hosted Wendy Cutler\, a U.S. diplomat and trade negotiator for nearly three decades at the Office of the U.S. Trade Representative. \nWendy led U.S. trade negotiations with the Asia-Pacific region\, including serving as chief negotiator for the U.S.-Korea Free Trade Agreement. Before leaving government in 2015\, she rose to become Acting Deputy U.S. Trade Representative. \n\nHaving worked for four Administrations and nine U.S. Trade Representatives\, Wendy shared her insights on the current transition period and how election outcomes shape what an Administration’s trade policy will be.\nWe heard her views on where the United States may be heading with China\, and the opportunities she sees for the United States to partner with other countries on trade and investment issues.\nWendy also shared a first-hand account of what it is like to negotiate trade agreements in a man’s world.\n\nThe discussion was moderated by Betty Robson\, President and Principal of JF Moran\, a national customs broker\, freight forwarder\, and worldwide logistics provider based in Smithfield\, Rhode Island. A great supporter of Women in World Trade\, Betty is also an Associate Professor of Graduate Business Studies at Johnson & Wales University and a past president of both the Boston Customs Brokers and Freight Forwarders Association and the Air Cargo Club of New England.
URL:https://wwtne.org/event/trade-in-transition-how-election-outcomes-may-shape-u-s-trade-relations-with-the-world/
LOCATION:Virtual
CATEGORIES:Networking
ATTACH;FMTTYPE=image/png:https://wwtne.org/wp-content/uploads/120920.png
END:VEVENT
END:VCALENDAR