BEGIN:VCALENDAR
VERSION:2.0
PRODID:-//Women in World Trade New England - ECPv6.15.18//NONSGML v1.0//EN
CALSCALE:GREGORIAN
METHOD:PUBLISH
X-WR-CALNAME:Women in World Trade New England
X-ORIGINAL-URL:https://wwtne.org
X-WR-CALDESC:Events for Women in World Trade New England
REFRESH-INTERVAL;VALUE=DURATION:PT1H
X-Robots-Tag:noindex
X-PUBLISHED-TTL:PT1H
BEGIN:VTIMEZONE
TZID:America/New_York
BEGIN:DAYLIGHT
TZOFFSETFROM:-0500
TZOFFSETTO:-0400
TZNAME:EDT
DTSTART:20250309T070000
END:DAYLIGHT
BEGIN:STANDARD
TZOFFSETFROM:-0400
TZOFFSETTO:-0500
TZNAME:EST
DTSTART:20251102T060000
END:STANDARD
BEGIN:DAYLIGHT
TZOFFSETFROM:-0500
TZOFFSETTO:-0400
TZNAME:EDT
DTSTART:20260308T070000
END:DAYLIGHT
BEGIN:STANDARD
TZOFFSETFROM:-0400
TZOFFSETTO:-0500
TZNAME:EST
DTSTART:20261101T060000
END:STANDARD
BEGIN:DAYLIGHT
TZOFFSETFROM:-0500
TZOFFSETTO:-0400
TZNAME:EDT
DTSTART:20270314T070000
END:DAYLIGHT
BEGIN:STANDARD
TZOFFSETFROM:-0400
TZOFFSETTO:-0500
TZNAME:EST
DTSTART:20271107T060000
END:STANDARD
END:VTIMEZONE
BEGIN:VEVENT
DTSTART;TZID=America/New_York:20260504T120000
DTEND;TZID=America/New_York:20260504T130000
DTSTAMP:20260425T081927
CREATED:20251122T140017Z
LAST-MODIFIED:20260409T205512Z
UID:10000082-1777896000-1777899600@wwtne.org
SUMMARY:Meet the Members Virtual Meetup - May 4
DESCRIPTION:Join us at the Women in World Trade New England “Meet the Members” virtual meetup and get to know our amazing community! \nDate: May-4-2026 Time: 12:00 – 1:00 pmPlatform:  Zoom Virtual Meeting \nDuring these sessions\, we will hear a brief update from a trade professional on a timely trade subject\, followed by updates from existing members\, and introductions to new members. We will also learn about exciting new WWTNE initiatives and events. We hope that you will join us! \nMay’s session featured speaker: Sara Fraim \nSara Fraim became the CEO of the Mass Technology Leadership Council in 2022. She had previously served at MTLC for 11 years in a variety of roles; most recently\, as the Vice President of Programs and Policy and Executive Director of the MTLC Education Foundation. \nThe Mass Technology Leadership Council (MTLC) is the region’s leading technology association and the premier network for tech executives\, entrepreneurs\, investors\, and policy leaders. MTLC’s mission is to accelerate innovation\, growth\, and the development of an inclusive tech ecosystem in Massachusetts. \nMTLC has over 200 members and partners\, representing tens of thousands of tech workers. Most of these members are engaged in international trade and need to stay current on the evolving policies and regulations affecting both imports and exports. \nMore information on the MTLC is available at https://www.mtlc.co \nThis session\, we will also meet members Cecilia Pirotto\, Owner of The Herbal Tea Co.\, and Ceylan Rowe Founder of the Fihri Foundation. \nThe Zoom link will be sent to all registrants the day before the Meetup. \n  \n  \n					\n									Register Here
URL:https://wwtne.org/event/meet-the-members-virtual-meetup-may-4/
ATTACH;FMTTYPE=image/jpeg:https://wwtne.org/wp-content/uploads/WWTNE-Meet-the-Members-Banner-1.pdf.jpg
END:VEVENT
END:VCALENDAR