BEGIN:VCALENDAR
VERSION:2.0
PRODID:-//Women in World Trade New England - ECPv6.15.18//NONSGML v1.0//EN
CALSCALE:GREGORIAN
METHOD:PUBLISH
X-WR-CALNAME:Women in World Trade New England
X-ORIGINAL-URL:https://wwtne.org
X-WR-CALDESC:Events for Women in World Trade New England
REFRESH-INTERVAL;VALUE=DURATION:PT1H
X-Robots-Tag:noindex
X-PUBLISHED-TTL:PT1H
BEGIN:VTIMEZONE
TZID:America/New_York
BEGIN:DAYLIGHT
TZOFFSETFROM:-0500
TZOFFSETTO:-0400
TZNAME:EDT
DTSTART:20250309T070000
END:DAYLIGHT
BEGIN:STANDARD
TZOFFSETFROM:-0400
TZOFFSETTO:-0500
TZNAME:EST
DTSTART:20251102T060000
END:STANDARD
BEGIN:DAYLIGHT
TZOFFSETFROM:-0500
TZOFFSETTO:-0400
TZNAME:EDT
DTSTART:20260308T070000
END:DAYLIGHT
BEGIN:STANDARD
TZOFFSETFROM:-0400
TZOFFSETTO:-0500
TZNAME:EST
DTSTART:20261101T060000
END:STANDARD
BEGIN:DAYLIGHT
TZOFFSETFROM:-0500
TZOFFSETTO:-0400
TZNAME:EDT
DTSTART:20270314T070000
END:DAYLIGHT
BEGIN:STANDARD
TZOFFSETFROM:-0400
TZOFFSETTO:-0500
TZNAME:EST
DTSTART:20271107T060000
END:STANDARD
END:VTIMEZONE
BEGIN:VEVENT
DTSTART;TZID=America/New_York:20260312T123000
DTEND;TZID=America/New_York:20260312T163000
DTSTAMP:20260425T081025
CREATED:20260126T150530Z
LAST-MODIFIED:20260203T000726Z
UID:10000086-1773318600-1773333000@wwtne.org
SUMMARY:A Strategic Conversation with Rhode Island Lieutenant Governor Sabina Matos
DESCRIPTION:Women in World Trade New England Member Event\, followed by a behind-the-scenes tour of the Rhode Island State House \nDate: Thursday\, March 12\, 2026Time: Tour begins at 1:00 PM. Please arrive by 12:50 PMLocation: Rhode Island State House\, Providence. \n2:00 PM to 3:00 PM. Conversation with Lt. Governor Sabina Mato. \nJoin the Conversation with Lieutenant Governor Sabina Matos.  \nRegister Now 
URL:https://wwtne.org/event/women-in-world-trade-new-england-at-the-rhode-island-state-house/
ATTACH;FMTTYPE=image/png:https://wwtne.org/wp-content/uploads/RI-State-House-scaled.png
END:VEVENT
BEGIN:VEVENT
DTSTART;TZID=America/New_York:20260312T153000
DTEND;TZID=America/New_York:20260312T170000
DTSTAMP:20260425T081025
CREATED:20260220T002014Z
LAST-MODIFIED:20260220T002302Z
UID:10000091-1773329400-1773334800@wwtne.org
SUMMARY:Join us for a bus tour of Providence!
DESCRIPTION:Date: Thursday\, March 12\, 2026\nTime: Tour begins at 3.30 PM following our meeting with Lieutenant Governor Sabina Matos\nLocation: Rhode Island State House\, Providence. \n3.30 PM to 5:00 PM. \nJoin us for a bus tour of one of America’s favorite cities! This event will immediately follow our meeting with Lieutenant Governor Sabina Matos \nTickets are $42 (including fees). Spaces are limited\, so sign up ASAP! \nRegister Now 
URL:https://wwtne.org/event/join-us-for-a-bus-tour-of-providence/
END:VEVENT
END:VCALENDAR