BEGIN:VCALENDAR
VERSION:2.0
PRODID:-//Women in World Trade New England - ECPv6.15.18//NONSGML v1.0//EN
CALSCALE:GREGORIAN
METHOD:PUBLISH
X-ORIGINAL-URL:https://wwtne.org
X-WR-CALDESC:Events for Women in World Trade New England
REFRESH-INTERVAL;VALUE=DURATION:PT1H
X-Robots-Tag:noindex
X-PUBLISHED-TTL:PT1H
BEGIN:VTIMEZONE
TZID:America/New_York
BEGIN:DAYLIGHT
TZOFFSETFROM:-0500
TZOFFSETTO:-0400
TZNAME:EDT
DTSTART:20250309T070000
END:DAYLIGHT
BEGIN:STANDARD
TZOFFSETFROM:-0400
TZOFFSETTO:-0500
TZNAME:EST
DTSTART:20251102T060000
END:STANDARD
BEGIN:DAYLIGHT
TZOFFSETFROM:-0500
TZOFFSETTO:-0400
TZNAME:EDT
DTSTART:20260308T070000
END:DAYLIGHT
BEGIN:STANDARD
TZOFFSETFROM:-0400
TZOFFSETTO:-0500
TZNAME:EST
DTSTART:20261101T060000
END:STANDARD
BEGIN:DAYLIGHT
TZOFFSETFROM:-0500
TZOFFSETTO:-0400
TZNAME:EDT
DTSTART:20270314T070000
END:DAYLIGHT
BEGIN:STANDARD
TZOFFSETFROM:-0400
TZOFFSETTO:-0500
TZNAME:EST
DTSTART:20271107T060000
END:STANDARD
END:VTIMEZONE
BEGIN:VEVENT
DTSTART;TZID=America/New_York:20260706T120000
DTEND;TZID=America/New_York:20260706T130000
DTSTAMP:20260425T114809
CREATED:20251122T140040Z
LAST-MODIFIED:20251122T193621Z
UID:10000083-1783339200-1783342800@wwtne.org
SUMMARY:Meet the Members Virtual Meetup - July 6
DESCRIPTION:Join us at the Women in World Trade New England “Meet the Members” virtual meetup and get to know our amazing community! \nDate: July-6-2026 \nTime: 12:00 – 1:00 pm\nPlatform:  Zoom Virtual Meeting \nDuring these sessions\, we will hear a brief update from a trade professional on a timely trade subject\, followed by updates from existing members\, and introductions to new members. We will also learn about exciting new WWTNE initiatives and events. We hope that you will join us! \nMeeting Link Will be Shared Shortly.
URL:https://wwtne.org/event/meet-the-members-virtual-meetup-july-6/
ATTACH;FMTTYPE=image/jpeg:https://wwtne.org/wp-content/uploads/WWTNE-Meet-the-Members-Banner-1.pdf.jpg
END:VEVENT
BEGIN:VEVENT
DTSTART;TZID=America/New_York:20260926T120000
DTEND;TZID=America/New_York:20260926T130000
DTSTAMP:20260425T114809
CREATED:20251122T140007Z
LAST-MODIFIED:20251122T193540Z
UID:10000084-1790424000-1790427600@wwtne.org
SUMMARY:Meet the Members Virtual Meetup - September
DESCRIPTION:Join us at the Women in World Trade New England “Meet the Members” virtual meetup and get to know our amazing community! \nDate: September-2026 \nTime: 12:00 – 1:00 pm\nPlatform:  Zoom Virtual Meeting \nDuring these sessions\, we will hear a brief update from a trade professional on a timely trade subject\, followed by updates from existing members\, and introductions to new members. We will also learn about exciting new WWTNE initiatives and events. We hope that you will join us! \nMeeting Link Will be Shared Shortly.
URL:https://wwtne.org/event/meet-the-members-virtual-meetup-september/
ATTACH;FMTTYPE=image/jpeg:https://wwtne.org/wp-content/uploads/WWTNE-Meet-the-Members-Banner-1.pdf.jpg
END:VEVENT
BEGIN:VEVENT
DTSTART;TZID=America/New_York:20261102T120000
DTEND;TZID=America/New_York:20261102T130000
DTSTAMP:20260425T114809
CREATED:20251122T140022Z
LAST-MODIFIED:20251122T193440Z
UID:10000085-1793620800-1793624400@wwtne.org
SUMMARY:Meet the Members Virtual Meetup - November 2
DESCRIPTION:Join us at the Women in World Trade New England “Meet the Members” virtual meetup and get to know our amazing community! \nDate: November-2-2026 \nTime: 12:00 – 1:00 pm\nPlatform:  Zoom Virtual Meeting \nDuring these sessions\, we will hear a brief update from a trade professional on a timely trade subject\, followed by updates from existing members\, and introductions to new members. We will also learn about exciting new WWTNE initiatives and events. We hope that you will join us! \nMeeting Link Will be Shared Shortly.
URL:https://wwtne.org/event/meet-the-members-virtual-meetup-november-2/
ATTACH;FMTTYPE=image/jpeg:https://wwtne.org/wp-content/uploads/WWTNE-Meet-the-Members-Banner-1.pdf.jpg
END:VEVENT
END:VCALENDAR