BEGIN:VCALENDAR
VERSION:2.0
PRODID:-//Women in World Trade New England - ECPv6.15.18//NONSGML v1.0//EN
CALSCALE:GREGORIAN
METHOD:PUBLISH
X-WR-CALNAME:Women in World Trade New England
X-ORIGINAL-URL:https://wwtne.org
X-WR-CALDESC:Events for Women in World Trade New England
REFRESH-INTERVAL;VALUE=DURATION:PT1H
X-Robots-Tag:noindex
X-PUBLISHED-TTL:PT1H
BEGIN:VTIMEZONE
TZID:America/New_York
BEGIN:DAYLIGHT
TZOFFSETFROM:-0500
TZOFFSETTO:-0400
TZNAME:EDT
DTSTART:20230312T070000
END:DAYLIGHT
BEGIN:STANDARD
TZOFFSETFROM:-0400
TZOFFSETTO:-0500
TZNAME:EST
DTSTART:20231105T060000
END:STANDARD
BEGIN:DAYLIGHT
TZOFFSETFROM:-0500
TZOFFSETTO:-0400
TZNAME:EDT
DTSTART:20240310T070000
END:DAYLIGHT
BEGIN:STANDARD
TZOFFSETFROM:-0400
TZOFFSETTO:-0500
TZNAME:EST
DTSTART:20241103T060000
END:STANDARD
BEGIN:DAYLIGHT
TZOFFSETFROM:-0500
TZOFFSETTO:-0400
TZNAME:EDT
DTSTART:20250309T070000
END:DAYLIGHT
BEGIN:STANDARD
TZOFFSETFROM:-0400
TZOFFSETTO:-0500
TZNAME:EST
DTSTART:20251102T060000
END:STANDARD
BEGIN:DAYLIGHT
TZOFFSETFROM:-0500
TZOFFSETTO:-0400
TZNAME:EDT
DTSTART:20260308T070000
END:DAYLIGHT
BEGIN:STANDARD
TZOFFSETFROM:-0400
TZOFFSETTO:-0500
TZNAME:EST
DTSTART:20261101T060000
END:STANDARD
BEGIN:DAYLIGHT
TZOFFSETFROM:-0500
TZOFFSETTO:-0400
TZNAME:EDT
DTSTART:20270314T070000
END:DAYLIGHT
BEGIN:STANDARD
TZOFFSETFROM:-0400
TZOFFSETTO:-0500
TZNAME:EST
DTSTART:20271107T060000
END:STANDARD
END:VTIMEZONE
BEGIN:VEVENT
DTSTART;TZID=America/New_York:20240612T180000
DTEND;TZID=America/New_York:20240612T200000
DTSTAMP:20260425T233251
CREATED:20240526T140055Z
LAST-MODIFIED:20240526T141355Z
UID:10000060-1718215200-1718222400@wwtne.org
SUMMARY:EU Spring Networking
DESCRIPTION:Our thanks to our presenting sponsor Capital OneDay: TuesdayDate: December 12\, 2023Schedule: 6:00 pm – 8:00 pmLocation: CambridgeCost: $50 								\n				\n					\n		\n					\n		\n					\n		\n					\n		\n		\n					\n				\n				\n									Women in World Trade\, New England\, Holiday Gathering Join us for a festive gathering to celebrate the holiday season with Women in World Trade\, NE! This in-person event will take place at 314 Main Street\, Cambridge\, MA\, USA. It’s a great opportunity to connect with fellow professionals in the international field and expand your network. Come and enjoy an evening of networking\, delicious food\, and holiday cheer. 								\n				\n				\n				\n							\n							\n											\n\n											Click here to register
URL:https://wwtne.org/event/eu-spring-networking/
ATTACH;FMTTYPE=image/png:https://wwtne.org/wp-content/uploads/unnamed-1.png
END:VEVENT
BEGIN:VEVENT
DTSTART;TZID=America/New_York:20240813T173000
DTEND;TZID=America/New_York:20240813T193000
DTSTAMP:20260425T233251
CREATED:20240718T112921Z
LAST-MODIFIED:20240718T113600Z
UID:10000062-1723570200-1723577400@wwtne.org
SUMMARY:Celebrate the Summer with Drinks on the Terrace
DESCRIPTION:Our thanks to our presenting sponsor Capital OneDay: TuesdayDate: December 12\, 2023Schedule: 6:00 pm – 8:00 pmLocation: CambridgeCost: $50 								\n				\n					\n		\n					\n		\n					\n		\n					\n		\n		\n					\n				\n				\n									Women in World Trade\, New England\, Holiday Gathering Join us for a festive gathering to celebrate the holiday season with Women in World Trade\, NE! This in-person event will take place at 314 Main Street\, Cambridge\, MA\, USA. It’s a great opportunity to connect with fellow professionals in the international field and expand your network. Come and enjoy an evening of networking\, delicious food\, and holiday cheer. 								\n				\n				\n				\n							\n							\n											\n\n											Click here to register
URL:https://wwtne.org/event/celebrate-the-summer-with-drinks-on-the-terrace/
ATTACH;FMTTYPE=image/png:https://wwtne.org/wp-content/uploads/Celebrate-the-Summer-with-Drinks-on-the-Terrace.png
END:VEVENT
BEGIN:VEVENT
DTSTART;VALUE=DATE:20240924
DTEND;VALUE=DATE:20240925
DTSTAMP:20260425T233251
CREATED:20240524T125446Z
LAST-MODIFIED:20240524T130354Z
UID:10000057-1727136000-1727222399@wwtne.org
SUMMARY:Website Forum on Africa
DESCRIPTION:Our thanks to our presenting sponsor Capital OneDay: TuesdayDate: December 12\, 2023Schedule: 6:00 pm – 8:00 pmLocation: CambridgeCost: $50 								\n				\n					\n		\n					\n		\n					\n		\n					\n		\n		\n					\n				\n				\n									Women in World Trade\, New England\, Holiday Gathering Join us for a festive gathering to celebrate the holiday season with Women in World Trade\, NE! This in-person event will take place at 314 Main Street\, Cambridge\, MA\, USA. It’s a great opportunity to connect with fellow professionals in the international field and expand your network. Come and enjoy an evening of networking\, delicious food\, and holiday cheer. 								\n				\n				\n				\n							\n							\n											\n\n											Click here to register
URL:https://wwtne.org/event/website-forum-on-africa/
ATTACH;FMTTYPE=image/jpeg:https://wwtne.org/wp-content/uploads/5a871a467f8ecf50a7bc7b2afb312526-1024x683-1.jpg
END:VEVENT
BEGIN:VEVENT
DTSTART;TZID=America/New_York:20241210T173000
DTEND;TZID=America/New_York:20241210T190000
DTSTAMP:20260425T233251
CREATED:20241015T160039Z
LAST-MODIFIED:20241116T000416Z
UID:10000064-1733851800-1733857200@wwtne.org
SUMMARY:Women in World Trade\, NE Holiday Gathering
DESCRIPTION:Our thanks to our presenting sponsor Capital OneDay: TuesdayDate: December 12\, 2023Schedule: 6:00 pm – 8:00 pmLocation: CambridgeCost: $50 								\n				\n					\n		\n					\n		\n					\n		\n					\n		\n		\n					\n				\n				\n									Women in World Trade\, New England\, Holiday Gathering Join us for a festive gathering to celebrate the holiday season with Women in World Trade\, NE! This in-person event will take place at 314 Main Street\, Cambridge\, MA\, USA. It’s a great opportunity to connect with fellow professionals in the international field and expand your network. Come and enjoy an evening of networking\, delicious food\, and holiday cheer. 								\n				\n				\n				\n							\n							\n											\n\n											Click here to register
URL:https://wwtne.org/event/women-in-world-trade-ne-holiday-gathering/
ATTACH;FMTTYPE=image/png:https://wwtne.org/wp-content/uploads/Holiday-2024.png
END:VEVENT
BEGIN:VEVENT
DTSTART;TZID=America/New_York:20250113T120000
DTEND;TZID=America/New_York:20250113T124500
DTSTAMP:20260425T233251
CREATED:20241015T150033Z
LAST-MODIFIED:20241116T001006Z
UID:10000063-1736769600-1736772300@wwtne.org
SUMMARY:WWTNE Meet the Members Virtual Meetup
DESCRIPTION:Our thanks to our presenting sponsor Capital OneDay: TuesdayDate: December 12\, 2023Schedule: 6:00 pm – 8:00 pmLocation: CambridgeCost: $50 								\n				\n					\n		\n					\n		\n					\n		\n					\n		\n		\n					\n				\n				\n									Women in World Trade\, New England\, Holiday Gathering Join us for a festive gathering to celebrate the holiday season with Women in World Trade\, NE! This in-person event will take place at 314 Main Street\, Cambridge\, MA\, USA. It’s a great opportunity to connect with fellow professionals in the international field and expand your network. Come and enjoy an evening of networking\, delicious food\, and holiday cheer. 								\n				\n				\n				\n							\n							\n											\n\n											Click here to register
URL:https://wwtne.org/event/wwtne-meet-the-members-virtual-meetup/
ATTACH;FMTTYPE=image/png:https://wwtne.org/wp-content/uploads/Meet-the-Members-Eventbrite-1.png
END:VEVENT
BEGIN:VEVENT
DTSTART;TZID=America/New_York:20250128T173000
DTEND;TZID=America/New_York:20250128T193000
DTSTAMP:20260425T233251
CREATED:20241219T045323Z
LAST-MODIFIED:20241219T204256Z
UID:10000065-1738085400-1738092600@wwtne.org
SUMMARY:Speed Networking with WWTNE and Speaker Naomi Berlin\, Assistant Secretary of Business Growth in the Healey Administration
DESCRIPTION:Our thanks to our presenting sponsor Capital OneDay: TuesdayDate: December 12\, 2023Schedule: 6:00 pm – 8:00 pmLocation: CambridgeCost: $50 								\n				\n					\n		\n					\n		\n					\n		\n					\n		\n		\n					\n				\n				\n									Women in World Trade\, New England\, Holiday Gathering Join us for a festive gathering to celebrate the holiday season with Women in World Trade\, NE! This in-person event will take place at 314 Main Street\, Cambridge\, MA\, USA. It’s a great opportunity to connect with fellow professionals in the international field and expand your network. Come and enjoy an evening of networking\, delicious food\, and holiday cheer. 								\n				\n				\n				\n							\n							\n											\n\n											Click here to register
URL:https://wwtne.org/event/speed-networking-with-wwtne-and-speaker-naomi-berlin-assistant-secretary-of-business-growth-in-the-healy-administration/
LOCATION:CIC Cambridge\, One Broadway\, Cambridge\, MA\, 02142\, United States
ATTACH;FMTTYPE=image/png:https://wwtne.org/wp-content/uploads/Speed-Networking-Night-Banner-1.png
END:VEVENT
BEGIN:VEVENT
DTSTART;TZID=America/New_York:20250203T120000
DTEND;TZID=America/New_York:20250203T123000
DTSTAMP:20260425T233251
CREATED:20250101T172955Z
LAST-MODIFIED:20250209T194127Z
UID:10000066-1738584000-1738585800@wwtne.org
SUMMARY:WWTNE Meet the Members Virtual Meetup
DESCRIPTION:Our thanks to our presenting sponsor Capital OneDay: TuesdayDate: December 12\, 2023Schedule: 6:00 pm – 8:00 pmLocation: CambridgeCost: $50 								\n				\n					\n		\n					\n		\n					\n		\n					\n		\n		\n					\n				\n				\n									Women in World Trade\, New England\, Holiday Gathering Join us for a festive gathering to celebrate the holiday season with Women in World Trade\, NE! This in-person event will take place at 314 Main Street\, Cambridge\, MA\, USA. It’s a great opportunity to connect with fellow professionals in the international field and expand your network. Come and enjoy an evening of networking\, delicious food\, and holiday cheer. 								\n				\n				\n				\n							\n							\n											\n\n											Click here to register
URL:https://wwtne.org/event/wwtne-meet-the-members-virtual-meetup-2/
ATTACH;FMTTYPE=image/png:https://wwtne.org/wp-content/uploads/Meet-the-Members-Eventbrite-1.png
END:VEVENT
BEGIN:VEVENT
DTSTART;TZID=America/New_York:20250407T120000
DTEND;TZID=America/New_York:20250407T124500
DTSTAMP:20260425T233251
CREATED:20250209T133721Z
LAST-MODIFIED:20250217T163150Z
UID:10000069-1744027200-1744029900@wwtne.org
SUMMARY:WWTNE Meet the Members Virtual Meetup
DESCRIPTION:Our thanks to our presenting sponsor Capital OneDay: TuesdayDate: December 12\, 2023Schedule: 6:00 pm – 8:00 pmLocation: CambridgeCost: $50 								\n				\n					\n		\n					\n		\n					\n		\n					\n		\n		\n					\n				\n				\n									Women in World Trade\, New England\, Holiday Gathering Join us for a festive gathering to celebrate the holiday season with Women in World Trade\, NE! This in-person event will take place at 314 Main Street\, Cambridge\, MA\, USA. It’s a great opportunity to connect with fellow professionals in the international field and expand your network. Come and enjoy an evening of networking\, delicious food\, and holiday cheer. 								\n				\n				\n				\n							\n							\n											\n\n											Click here to register
URL:https://wwtne.org/event/wwtne-meet-the-members-virtual-meetup-4/
CATEGORIES:Networking
ATTACH;FMTTYPE=image/png:https://wwtne.org/wp-content/uploads/Meet-the-Members-Eventbrite-1.png
END:VEVENT
BEGIN:VEVENT
DTSTART;TZID=America/New_York:20250527T180000
DTEND;TZID=America/New_York:20250527T200000
DTSTAMP:20260425T233251
CREATED:20250428T183128Z
LAST-MODIFIED:20250428T184304Z
UID:10000072-1748368800-1748376000@wwtne.org
SUMMARY:European-American Business Summer Networking Event
DESCRIPTION:Our thanks to our presenting sponsor Capital OneDay: TuesdayDate: December 12\, 2023Schedule: 6:00 pm – 8:00 pmLocation: CambridgeCost: $50 								\n				\n					\n		\n					\n		\n					\n		\n					\n		\n		\n					\n				\n				\n									Women in World Trade\, New England\, Holiday Gathering Join us for a festive gathering to celebrate the holiday season with Women in World Trade\, NE! This in-person event will take place at 314 Main Street\, Cambridge\, MA\, USA. It’s a great opportunity to connect with fellow professionals in the international field and expand your network. Come and enjoy an evening of networking\, delicious food\, and holiday cheer. 								\n				\n				\n				\n							\n							\n											\n\n											Click here to register
URL:https://wwtne.org/event/european-american-business/
CATEGORIES:Networking
ATTACH;FMTTYPE=image/jpeg:https://wwtne.org/wp-content/uploads/https___cdn.evbuc_.com_images_1017345263_520593888441_1_original.jpg
END:VEVENT
BEGIN:VEVENT
DTSTART;TZID=America/New_York:20250529T150000
DTEND;TZID=America/New_York:20250529T170000
DTSTAMP:20260425T233251
CREATED:20250411T154440Z
LAST-MODIFIED:20250516T174338Z
UID:10000071-1748530800-1748538000@wwtne.org
SUMMARY:Connecting Women in  New England’s International Trade Community: High Tea at the Chinese Tea House
DESCRIPTION:Our thanks to our presenting sponsor Capital OneDay: TuesdayDate: December 12\, 2023Schedule: 6:00 pm – 8:00 pmLocation: CambridgeCost: $50 								\n				\n					\n		\n					\n		\n					\n		\n					\n		\n		\n					\n				\n				\n									Women in World Trade\, New England\, Holiday Gathering Join us for a festive gathering to celebrate the holiday season with Women in World Trade\, NE! This in-person event will take place at 314 Main Street\, Cambridge\, MA\, USA. It’s a great opportunity to connect with fellow professionals in the international field and expand your network. Come and enjoy an evening of networking\, delicious food\, and holiday cheer. 								\n				\n				\n				\n							\n							\n											\n\n											Click here to register
URL:https://wwtne.org/event/connecting-women-in-new-englands-international-trade-community-high-tea-at-the-chinese-tea-house/
LOCATION:Chinese Tea House at Marble House\, Cliff Walk\, Newport\, RI\, 02840\, United States
CATEGORIES:Networking
ATTACH;FMTTYPE=image/png:https://wwtne.org/wp-content/uploads/Web_-WWTNE-Chinese-Tea-House-Event.png
END:VEVENT
BEGIN:VEVENT
DTSTART;TZID=America/New_York:20250602T120000
DTEND;TZID=America/New_York:20250602T124500
DTSTAMP:20260425T233251
CREATED:20250209T134320Z
LAST-MODIFIED:20250426T173231Z
UID:10000070-1748865600-1748868300@wwtne.org
SUMMARY:WWTNE Meet the Members Virtual Meetup
DESCRIPTION:Our thanks to our presenting sponsor Capital OneDay: TuesdayDate: December 12\, 2023Schedule: 6:00 pm – 8:00 pmLocation: CambridgeCost: $50 								\n				\n					\n		\n					\n		\n					\n		\n					\n		\n		\n					\n				\n				\n									Women in World Trade\, New England\, Holiday Gathering Join us for a festive gathering to celebrate the holiday season with Women in World Trade\, NE! This in-person event will take place at 314 Main Street\, Cambridge\, MA\, USA. It’s a great opportunity to connect with fellow professionals in the international field and expand your network. Come and enjoy an evening of networking\, delicious food\, and holiday cheer. 								\n				\n				\n				\n							\n							\n											\n\n											Click here to register
URL:https://wwtne.org/event/wwtne-meet-the-members-virtual-meetup-5/
CATEGORIES:Networking
ATTACH;FMTTYPE=image/png:https://wwtne.org/wp-content/uploads/Meet-the-Members-Eventbrite-1.png
END:VEVENT
BEGIN:VEVENT
DTSTART;TZID=America/New_York:20250807T200000
DTEND;TZID=America/New_York:20250807T220000
DTSTAMP:20260425T233251
CREATED:20250628T141428Z
LAST-MODIFIED:20250706T164710Z
UID:10000073-1754596800-1754604000@wwtne.org
SUMMARY:Discover British Flair & Flavor with After-Hours Networking
DESCRIPTION:Our thanks to our presenting sponsor Capital OneDay: TuesdayDate: December 12\, 2023Schedule: 6:00 pm – 8:00 pmLocation: CambridgeCost: $50 								\n				\n					\n		\n					\n		\n					\n		\n					\n		\n		\n					\n				\n				\n									Women in World Trade\, New England\, Holiday Gathering Join us for a festive gathering to celebrate the holiday season with Women in World Trade\, NE! This in-person event will take place at 314 Main Street\, Cambridge\, MA\, USA. It’s a great opportunity to connect with fellow professionals in the international field and expand your network. Come and enjoy an evening of networking\, delicious food\, and holiday cheer. 								\n				\n				\n				\n							\n							\n											\n\n											Click here to register
URL:https://wwtne.org/event/discover-british-flair-flavor-with-after-hours-networking/
ATTACH;FMTTYPE=image/png:https://wwtne.org/wp-content/uploads/August-7-Bees-Knees-Eventbrite-1.png
END:VEVENT
BEGIN:VEVENT
DTSTART;TZID=America/New_York:20251014T173000
DTEND;TZID=America/New_York:20251014T203000
DTSTAMP:20260425T233251
CREATED:20250706T164328Z
LAST-MODIFIED:20250812T031628Z
UID:10000074-1760463000-1760473800@wwtne.org
SUMMARY:31st Annual International Business Forum & Networking Evening
DESCRIPTION:Our thanks to our presenting sponsor Capital OneDay: TuesdayDate: December 12\, 2023Schedule: 6:00 pm – 8:00 pmLocation: CambridgeCost: $50 								\n				\n					\n		\n					\n		\n					\n		\n					\n		\n		\n					\n				\n				\n									Women in World Trade\, New England\, Holiday Gathering Join us for a festive gathering to celebrate the holiday season with Women in World Trade\, NE! This in-person event will take place at 314 Main Street\, Cambridge\, MA\, USA. It’s a great opportunity to connect with fellow professionals in the international field and expand your network. Come and enjoy an evening of networking\, delicious food\, and holiday cheer. 								\n				\n				\n				\n							\n							\n											\n\n											Click here to register
URL:https://wwtne.org/event/31-annual-business-forum/
LOCATION:Suffolk University Sawyer Business School\, 120 Tremont Street\, Boston\, MA\, 02108\, United States
ATTACH;FMTTYPE=image/jpeg:https://wwtne.org/wp-content/uploads/GBANE-31-Annual-Business-Forum.jpg
END:VEVENT
BEGIN:VEVENT
DTSTART;TZID=America/New_York:20251103T120000
DTEND;TZID=America/New_York:20251103T130000
DTSTAMP:20260425T233251
CREATED:20250812T030809Z
LAST-MODIFIED:20251019T004721Z
UID:10000075-1762171200-1762174800@wwtne.org
SUMMARY:WWTNE Meet the Members Virtual Meetup
DESCRIPTION:Our thanks to our presenting sponsor Capital OneDay: TuesdayDate: December 12\, 2023Schedule: 6:00 pm – 8:00 pmLocation: CambridgeCost: $50 								\n				\n					\n		\n					\n		\n					\n		\n					\n		\n		\n					\n				\n				\n									Women in World Trade\, New England\, Holiday Gathering Join us for a festive gathering to celebrate the holiday season with Women in World Trade\, NE! This in-person event will take place at 314 Main Street\, Cambridge\, MA\, USA. It’s a great opportunity to connect with fellow professionals in the international field and expand your network. Come and enjoy an evening of networking\, delicious food\, and holiday cheer. 								\n				\n				\n				\n							\n							\n											\n\n											Click here to register
URL:https://wwtne.org/event/wwtne-meet-the-members-virtual-meetup-oct-6/
CATEGORIES:Networking
ATTACH;FMTTYPE=image/png:https://wwtne.org/wp-content/uploads/Meet-the-Members-Eventbrite-1.png
END:VEVENT
BEGIN:VEVENT
DTSTART;TZID=America/New_York:20260113T120000
DTEND;TZID=America/New_York:20260113T130000
DTSTAMP:20260425T233251
CREATED:20251122T140037Z
LAST-MODIFIED:20260105T134348Z
UID:10000080-1768305600-1768309200@wwtne.org
SUMMARY:Meet the Members Virtual Meetup - January 13
DESCRIPTION:Our thanks to our presenting sponsor Capital OneDay: TuesdayDate: December 12\, 2023Schedule: 6:00 pm – 8:00 pmLocation: CambridgeCost: $50 								\n				\n					\n		\n					\n		\n					\n		\n					\n		\n		\n					\n				\n				\n									Women in World Trade\, New England\, Holiday Gathering Join us for a festive gathering to celebrate the holiday season with Women in World Trade\, NE! This in-person event will take place at 314 Main Street\, Cambridge\, MA\, USA. It’s a great opportunity to connect with fellow professionals in the international field and expand your network. Come and enjoy an evening of networking\, delicious food\, and holiday cheer. 								\n				\n				\n				\n							\n							\n											\n\n											Click here to register
URL:https://wwtne.org/event/meet-the-members-virtual-meetup-january-13/
ATTACH;FMTTYPE=image/jpeg:https://wwtne.org/wp-content/uploads/WWTNE-Meet-the-Members-Banner-1.pdf.jpg
END:VEVENT
BEGIN:VEVENT
DTSTART;TZID=America/New_York:20260205T173000
DTEND;TZID=America/New_York:20260205T193000
DTSTAMP:20260425T233251
CREATED:20251122T140018Z
LAST-MODIFIED:20251216T153303Z
UID:10000078-1770312600-1770319800@wwtne.org
SUMMARY:Join WWTNE for a reception at the official residence of the Consul General of the Republic of Türkiye
DESCRIPTION:Our thanks to our presenting sponsor Capital OneDay: TuesdayDate: December 12\, 2023Schedule: 6:00 pm – 8:00 pmLocation: CambridgeCost: $50 								\n				\n					\n		\n					\n		\n					\n		\n					\n		\n		\n					\n				\n				\n									Women in World Trade\, New England\, Holiday Gathering Join us for a festive gathering to celebrate the holiday season with Women in World Trade\, NE! This in-person event will take place at 314 Main Street\, Cambridge\, MA\, USA. It’s a great opportunity to connect with fellow professionals in the international field and expand your network. Come and enjoy an evening of networking\, delicious food\, and holiday cheer. 								\n				\n				\n				\n							\n							\n											\n\n											Click here to register
URL:https://wwtne.org/event/join-wwtne-for-a-reception-at-the-official-residence-of-the-consul-general-of-the-republic-of-turkiye/
ATTACH;FMTTYPE=image/jpeg:https://wwtne.org/wp-content/uploads/Untitled-design-12.jpg
END:VEVENT
BEGIN:VEVENT
DTSTART;TZID=America/New_York:20260302T120000
DTEND;TZID=America/New_York:20260302T130000
DTSTAMP:20260425T233251
CREATED:20251122T140043Z
LAST-MODIFIED:20260121T104745Z
UID:10000081-1772452800-1772456400@wwtne.org
SUMMARY:Meet the Members Virtual Meetup - March 2
DESCRIPTION:Our thanks to our presenting sponsor Capital OneDay: TuesdayDate: December 12\, 2023Schedule: 6:00 pm – 8:00 pmLocation: CambridgeCost: $50 								\n				\n					\n		\n					\n		\n					\n		\n					\n		\n		\n					\n				\n				\n									Women in World Trade\, New England\, Holiday Gathering Join us for a festive gathering to celebrate the holiday season with Women in World Trade\, NE! This in-person event will take place at 314 Main Street\, Cambridge\, MA\, USA. It’s a great opportunity to connect with fellow professionals in the international field and expand your network. Come and enjoy an evening of networking\, delicious food\, and holiday cheer. 								\n				\n				\n				\n							\n							\n											\n\n											Click here to register
URL:https://wwtne.org/event/meet-the-members-virtual-meetup-march-2/
ATTACH;FMTTYPE=image/jpeg:https://wwtne.org/wp-content/uploads/WWTNE-Meet-the-Members-Banner-1.pdf.jpg
END:VEVENT
END:VCALENDAR