BEGIN:VCALENDAR
VERSION:2.0
PRODID:-//Women in World Trade New England - ECPv6.15.18//NONSGML v1.0//EN
CALSCALE:GREGORIAN
METHOD:PUBLISH
X-WR-CALNAME:Women in World Trade New England
X-ORIGINAL-URL:https://wwtne.org
X-WR-CALDESC:Events for Women in World Trade New England
REFRESH-INTERVAL;VALUE=DURATION:PT1H
X-Robots-Tag:noindex
X-PUBLISHED-TTL:PT1H
BEGIN:VTIMEZONE
TZID:America/New_York
BEGIN:DAYLIGHT
TZOFFSETFROM:-0500
TZOFFSETTO:-0400
TZNAME:EDT
DTSTART:20190310T070000
END:DAYLIGHT
BEGIN:STANDARD
TZOFFSETFROM:-0400
TZOFFSETTO:-0500
TZNAME:EST
DTSTART:20191103T060000
END:STANDARD
BEGIN:DAYLIGHT
TZOFFSETFROM:-0500
TZOFFSETTO:-0400
TZNAME:EDT
DTSTART:20200308T070000
END:DAYLIGHT
BEGIN:STANDARD
TZOFFSETFROM:-0400
TZOFFSETTO:-0500
TZNAME:EST
DTSTART:20201101T060000
END:STANDARD
BEGIN:DAYLIGHT
TZOFFSETFROM:-0500
TZOFFSETTO:-0400
TZNAME:EDT
DTSTART:20210314T070000
END:DAYLIGHT
BEGIN:STANDARD
TZOFFSETFROM:-0400
TZOFFSETTO:-0500
TZNAME:EST
DTSTART:20211107T060000
END:STANDARD
BEGIN:DAYLIGHT
TZOFFSETFROM:-0500
TZOFFSETTO:-0400
TZNAME:EDT
DTSTART:20220313T070000
END:DAYLIGHT
BEGIN:STANDARD
TZOFFSETFROM:-0400
TZOFFSETTO:-0500
TZNAME:EST
DTSTART:20221106T060000
END:STANDARD
END:VTIMEZONE
BEGIN:VEVENT
DTSTART;TZID=America/New_York:20210427T120000
DTEND;TZID=America/New_York:20210427T130000
DTSTAMP:20260425T201102
CREATED:20220524T151753Z
LAST-MODIFIED:20220524T151753Z
UID:10000013-1619524800-1619528400@wwtne.org
SUMMARY:How Trade Dynamics Affect the 2021 Global Economic Outlook
DESCRIPTION:Event Name:The Innovation Ecosystem: The Role of Universities\, Entrepreneurs\, and Trade Policy in Connecting to the Global MarketplaceEvent Description:Dr. Abigail Barrow\, Managing Partner\, Cambridge Innovation PartnersJake Colvin\, Executive Director\, Global Innovation Forum
URL:https://wwtne.org/event/how-trade-dynamics-affect-the-2021-global-economic-outlook/
LOCATION:Virtual
CATEGORIES:Networking
ATTACH;FMTTYPE=image/webp:https://wwtne.org/wp-content/uploads/042721.webp
END:VEVENT
BEGIN:VEVENT
DTSTART;TZID=America/New_York:20210330T120000
DTEND;TZID=America/New_York:20210330T130000
DTSTAMP:20260425T201102
CREATED:20230412T224824Z
LAST-MODIFIED:20230412T225006Z
UID:10000040-1617105600-1617109200@wwtne.org
SUMMARY:The Innovation Ecosystem: The Role of Universities\, Entrepreneurs\, and Trade Policy in Connecting to the Global Marketplace
DESCRIPTION:Event Name:The Innovation Ecosystem: The Role of Universities\, Entrepreneurs\, and Trade Policy in Connecting to the Global MarketplaceEvent Description:Dr. Abigail Barrow\, Managing Partner\, Cambridge Innovation PartnersJake Colvin\, Executive Director\, Global Innovation Forum
URL:https://wwtne.org/event/the-innovation-ecosystem/
ATTACH;FMTTYPE=image/png:https://wwtne.org/wp-content/uploads/The-Innovation-Ecosystem.png
END:VEVENT
BEGIN:VEVENT
DTSTART;TZID=America/New_York:20210125T130000
DTEND;TZID=America/New_York:20210125T130000
DTSTAMP:20260425T201102
CREATED:20230413T122342Z
LAST-MODIFIED:20230413T122841Z
UID:10000041-1611579600-1611579600@wwtne.org
SUMMARY:The Post-Brexit Landscape
DESCRIPTION:Event Name:The Innovation Ecosystem: The Role of Universities\, Entrepreneurs\, and Trade Policy in Connecting to the Global MarketplaceEvent Description:Dr. Abigail Barrow\, Managing Partner\, Cambridge Innovation PartnersJake Colvin\, Executive Director\, Global Innovation Forum
URL:https://wwtne.org/event/the-post-brexit-landscape/
ATTACH;FMTTYPE=image/png:https://wwtne.org/wp-content/uploads/The-Post-Brexit-Landscape.png
END:VEVENT
BEGIN:VEVENT
DTSTART;TZID=America/New_York:20201209T120000
DTEND;TZID=America/New_York:20201209T130000
DTSTAMP:20260425T201102
CREATED:20220524T152348Z
LAST-MODIFIED:20220524T152348Z
UID:10000014-1607515200-1607518800@wwtne.org
SUMMARY:Trade in Transition: How Election Outcomes May Shape U.S. Trade Relations with the World
DESCRIPTION:Event Name:The Innovation Ecosystem: The Role of Universities\, Entrepreneurs\, and Trade Policy in Connecting to the Global MarketplaceEvent Description:Dr. Abigail Barrow\, Managing Partner\, Cambridge Innovation PartnersJake Colvin\, Executive Director\, Global Innovation Forum
URL:https://wwtne.org/event/trade-in-transition-how-election-outcomes-may-shape-u-s-trade-relations-with-the-world/
LOCATION:Virtual
CATEGORIES:Networking
ATTACH;FMTTYPE=image/png:https://wwtne.org/wp-content/uploads/120920.png
END:VEVENT
BEGIN:VEVENT
DTSTART;TZID=America/New_York:20200910T120000
DTEND;TZID=America/New_York:20200910T130000
DTSTAMP:20260425T201102
CREATED:20230413T123717Z
LAST-MODIFIED:20230413T123943Z
UID:10000042-1599739200-1599742800@wwtne.org
SUMMARY:What’s Next for the World Trade Organization
DESCRIPTION:Event Name:The Innovation Ecosystem: The Role of Universities\, Entrepreneurs\, and Trade Policy in Connecting to the Global MarketplaceEvent Description:Dr. Abigail Barrow\, Managing Partner\, Cambridge Innovation PartnersJake Colvin\, Executive Director\, Global Innovation Forum
URL:https://wwtne.org/event/whats-next-for-the-world-trade-organization/
ATTACH;FMTTYPE=image/png:https://wwtne.org/wp-content/uploads/Whats-Next-for-the-WTO.png
END:VEVENT
BEGIN:VEVENT
DTSTART;TZID=America/New_York:20200728T120000
DTEND;TZID=America/New_York:20200728T130000
DTSTAMP:20260425T201102
CREATED:20230413T124224Z
LAST-MODIFIED:20230413T124345Z
UID:10000043-1595937600-1595941200@wwtne.org
SUMMARY:Helping New England Go Global
DESCRIPTION:Event Name:The Innovation Ecosystem: The Role of Universities\, Entrepreneurs\, and Trade Policy in Connecting to the Global MarketplaceEvent Description:Dr. Abigail Barrow\, Managing Partner\, Cambridge Innovation PartnersJake Colvin\, Executive Director\, Global Innovation Forum
URL:https://wwtne.org/event/helping-new-england-go-global/
ATTACH;FMTTYPE=image/jpeg:https://wwtne.org/wp-content/uploads/Helping-New-England-Go-Global.jpg
END:VEVENT
BEGIN:VEVENT
DTSTART;TZID=America/New_York:20200616T120000
DTEND;TZID=America/New_York:20200616T120000
DTSTAMP:20260425T201102
CREATED:20230413T124622Z
LAST-MODIFIED:20230413T124726Z
UID:10000044-1592308800-1592308800@wwtne.org
SUMMARY:Dialogue on the Massachusetts Trade Landscape
DESCRIPTION:Event Name:The Innovation Ecosystem: The Role of Universities\, Entrepreneurs\, and Trade Policy in Connecting to the Global MarketplaceEvent Description:Dr. Abigail Barrow\, Managing Partner\, Cambridge Innovation PartnersJake Colvin\, Executive Director\, Global Innovation Forum
URL:https://wwtne.org/event/dialogue-on-the-massachusetts-trade-landscape/
ATTACH;FMTTYPE=image/png:https://wwtne.org/wp-content/uploads/Dialogue-on-the-Massachusetts-Trade-Landscape.png
END:VEVENT
BEGIN:VEVENT
DTSTART;TZID=America/New_York:20200427T120000
DTEND;TZID=America/New_York:20200427T123000
DTSTAMP:20260425T201102
CREATED:20230413T124923Z
LAST-MODIFIED:20230413T125051Z
UID:10000045-1587988800-1587990600@wwtne.org
SUMMARY:Spotlight on Athena Kasvikis\, Founder & CEO Behave Bras
DESCRIPTION:Event Name:The Innovation Ecosystem: The Role of Universities\, Entrepreneurs\, and Trade Policy in Connecting to the Global MarketplaceEvent Description:Dr. Abigail Barrow\, Managing Partner\, Cambridge Innovation PartnersJake Colvin\, Executive Director\, Global Innovation Forum
URL:https://wwtne.org/event/spotlight-on-athena-kasvikis-founder-ceo-behave-bras/
ATTACH;FMTTYPE=image/jpeg:https://wwtne.org/wp-content/uploads/Success-Stories-from-Women-in-World-Trade-Athena-Kasvikis.jpg
END:VEVENT
END:VCALENDAR